BEGIN:VCALENDAR
VERSION:2.0
PRODID:-//Cascadia Health - ECPv6.15.15//NONSGML v1.0//EN
CALSCALE:GREGORIAN
METHOD:PUBLISH
X-WR-CALNAME:Cascadia Health
X-ORIGINAL-URL:https://cascadiahealth.org
X-WR-CALDESC:Events for Cascadia Health
REFRESH-INTERVAL;VALUE=DURATION:PT1H
X-Robots-Tag:noindex
X-PUBLISHED-TTL:PT1H
BEGIN:VTIMEZONE
TZID:America/Los_Angeles
BEGIN:DAYLIGHT
TZOFFSETFROM:-0800
TZOFFSETTO:-0700
TZNAME:PDT
DTSTART:20240310T100000
END:DAYLIGHT
BEGIN:STANDARD
TZOFFSETFROM:-0700
TZOFFSETTO:-0800
TZNAME:PST
DTSTART:20241103T090000
END:STANDARD
BEGIN:DAYLIGHT
TZOFFSETFROM:-0800
TZOFFSETTO:-0700
TZNAME:PDT
DTSTART:20250309T100000
END:DAYLIGHT
BEGIN:STANDARD
TZOFFSETFROM:-0700
TZOFFSETTO:-0800
TZNAME:PST
DTSTART:20251102T090000
END:STANDARD
BEGIN:DAYLIGHT
TZOFFSETFROM:-0800
TZOFFSETTO:-0700
TZNAME:PDT
DTSTART:20260308T100000
END:DAYLIGHT
BEGIN:STANDARD
TZOFFSETFROM:-0700
TZOFFSETTO:-0800
TZNAME:PST
DTSTART:20261101T090000
END:STANDARD
END:VTIMEZONE
BEGIN:VEVENT
DTSTART;TZID=America/Los_Angeles:20251001T120000
DTEND;TZID=America/Los_Angeles:20251001T130000
DTSTAMP:20260423T174358
CREATED:20250613T223106Z
LAST-MODIFIED:20250619T183654Z
UID:10001252-1759320000-1759323600@cascadiahealth.org
SUMMARY:Mindful Moments
DESCRIPTION:Join us every Wednesday from 12:00 – 1:00 p.m. to learn about mindfulness and practice as a group. \n\nWhile we practice\, we will learn how to ground ourselves\, to improve our attention\, to improve our immune system\, and improve our brain functioning. Remember we can make it happen\, ourselves\, right now. During this stressful time\, you may find yourself in an aroused state\, with an increased heartbeat\, anxiousness\, and adrenaline. Your body may be tense\, which can impact your blood flow and blood pressure. You may have a hard time focusing\, feel irritated\, restless\, and reactive.\n\nJoin Us Online\n\n\nMicrosoft Teams Need help? \n\n\nJoin the meeting now \n\n\nMeeting ID: 254 854 514 920 0 \n\n\nPasscode: 5Ue7fZ9c \n\n\n\n\n\n\n\n\nDial in by phone \n\n\n+1 971-394-0147\,\,885772241# United States\, Portland \n\n\nFind a local number \n\n\n\nPhone conference ID: 885 772 241# \n\n\n 
URL:https://cascadiahealth.org/event/mindful-moments-series/2025-10-01/
LOCATION:Online
END:VEVENT
BEGIN:VEVENT
DTSTART;TZID=America/Los_Angeles:20251008T120000
DTEND;TZID=America/Los_Angeles:20251008T130000
DTSTAMP:20260423T174358
CREATED:20250613T223106Z
LAST-MODIFIED:20250619T183654Z
UID:10001253-1759924800-1759928400@cascadiahealth.org
SUMMARY:Mindful Moments
DESCRIPTION:Join us every Wednesday from 12:00 – 1:00 p.m. to learn about mindfulness and practice as a group. \n\nWhile we practice\, we will learn how to ground ourselves\, to improve our attention\, to improve our immune system\, and improve our brain functioning. Remember we can make it happen\, ourselves\, right now. During this stressful time\, you may find yourself in an aroused state\, with an increased heartbeat\, anxiousness\, and adrenaline. Your body may be tense\, which can impact your blood flow and blood pressure. You may have a hard time focusing\, feel irritated\, restless\, and reactive.\n\nJoin Us Online\n\n\nMicrosoft Teams Need help? \n\n\nJoin the meeting now \n\n\nMeeting ID: 254 854 514 920 0 \n\n\nPasscode: 5Ue7fZ9c \n\n\n\n\n\n\n\n\nDial in by phone \n\n\n+1 971-394-0147\,\,885772241# United States\, Portland \n\n\nFind a local number \n\n\n\nPhone conference ID: 885 772 241# \n\n\n 
URL:https://cascadiahealth.org/event/mindful-moments-series/2025-10-08/
LOCATION:Online
END:VEVENT
BEGIN:VEVENT
DTSTART;TZID=America/Los_Angeles:20251010T173000
DTEND;TZID=America/Los_Angeles:20251010T190000
DTSTAMP:20260423T174358
CREATED:20250818T203406Z
LAST-MODIFIED:20250818T203449Z
UID:10001532-1760117400-1760122800@cascadiahealth.org
SUMMARY:Let’s Talk About It! - A Human-Centered Approach to Mental Health
DESCRIPTION:Cascadia Health is proud to present a new event series\, “Let’s Talk About It!” It’s a three-part series of conversations with Cascadia experts in the field of crisis\, mental health\, and housing. These conversations bring together supporters and community members for dynamic discussions with a balance between systems-level and on-the-ground perspectives. We know our community has questions and Let’s Talk About It! is a hopeful place to find answers. \nA Human-Centered Approach to Mental Health\n\nOctober 10\, 2025 at 5:30 PM\n3036 NE MLK Jr. Blvd\n\nWe’ve been evolving our care to meet people where they are and provide wrap around support. We recognize that mental health is interconnected with all aspects of an individual’s health. Learn how we’re enhancing coordination across all levels of care. \nSponsored by: CareOregon \n— \nRegister now. Space is limited\, and advanced registration is recommended. \nAll events are free with a suggested donation of $20\, cold weather gear\, or personal and home care items.
URL:https://cascadiahealth.org/event/lets-talk-about-it-a-human-centered-approach-to-mental-health/
LOCATION:Cascadia Garlington Health Center\, 3036 NE Martin Luther King Jr.\, Blvd.\, Portland\, OR\, 97212\, United States
END:VEVENT
BEGIN:VEVENT
DTSTART;TZID=America/Los_Angeles:20251015T120000
DTEND;TZID=America/Los_Angeles:20251015T130000
DTSTAMP:20260423T174358
CREATED:20250613T223106Z
LAST-MODIFIED:20250619T183654Z
UID:10001254-1760529600-1760533200@cascadiahealth.org
SUMMARY:Mindful Moments
DESCRIPTION:Join us every Wednesday from 12:00 – 1:00 p.m. to learn about mindfulness and practice as a group. \n\nWhile we practice\, we will learn how to ground ourselves\, to improve our attention\, to improve our immune system\, and improve our brain functioning. Remember we can make it happen\, ourselves\, right now. During this stressful time\, you may find yourself in an aroused state\, with an increased heartbeat\, anxiousness\, and adrenaline. Your body may be tense\, which can impact your blood flow and blood pressure. You may have a hard time focusing\, feel irritated\, restless\, and reactive.\n\nJoin Us Online\n\n\nMicrosoft Teams Need help? \n\n\nJoin the meeting now \n\n\nMeeting ID: 254 854 514 920 0 \n\n\nPasscode: 5Ue7fZ9c \n\n\n\n\n\n\n\n\nDial in by phone \n\n\n+1 971-394-0147\,\,885772241# United States\, Portland \n\n\nFind a local number \n\n\n\nPhone conference ID: 885 772 241# \n\n\n 
URL:https://cascadiahealth.org/event/mindful-moments-series/2025-10-15/
LOCATION:Online
END:VEVENT
BEGIN:VEVENT
DTSTART;TZID=America/Los_Angeles:20251022T120000
DTEND;TZID=America/Los_Angeles:20251022T130000
DTSTAMP:20260423T174358
CREATED:20250613T223106Z
LAST-MODIFIED:20250619T183654Z
UID:10001255-1761134400-1761138000@cascadiahealth.org
SUMMARY:Mindful Moments
DESCRIPTION:Join us every Wednesday from 12:00 – 1:00 p.m. to learn about mindfulness and practice as a group. \n\nWhile we practice\, we will learn how to ground ourselves\, to improve our attention\, to improve our immune system\, and improve our brain functioning. Remember we can make it happen\, ourselves\, right now. During this stressful time\, you may find yourself in an aroused state\, with an increased heartbeat\, anxiousness\, and adrenaline. Your body may be tense\, which can impact your blood flow and blood pressure. You may have a hard time focusing\, feel irritated\, restless\, and reactive.\n\nJoin Us Online\n\n\nMicrosoft Teams Need help? \n\n\nJoin the meeting now \n\n\nMeeting ID: 254 854 514 920 0 \n\n\nPasscode: 5Ue7fZ9c \n\n\n\n\n\n\n\n\nDial in by phone \n\n\n+1 971-394-0147\,\,885772241# United States\, Portland \n\n\nFind a local number \n\n\n\nPhone conference ID: 885 772 241# \n\n\n 
URL:https://cascadiahealth.org/event/mindful-moments-series/2025-10-22/
LOCATION:Online
END:VEVENT
BEGIN:VEVENT
DTSTART;TZID=America/Los_Angeles:20251028T140000
DTEND;TZID=America/Los_Angeles:20251028T153000
DTSTAMP:20260423T174358
CREATED:20251008T155332Z
LAST-MODIFIED:20251008T155332Z
UID:10001534-1761660000-1761665400@cascadiahealth.org
SUMMARY:Meaning Making Through Art Therapy - LGBTQ+ adults
DESCRIPTION:Cascadia clients who are LGBTQ+ are invited to our new art therapy group! \nTogether\, we’ll think about social justice and how we can use art to make meaning even as we balance worry\, uncertainty\, and the challenges we face. Each week\, we’ll have suggested themes and topics to inspire you\, but all artistic engagement outside of those suggestions is welcome. No experience is necessary and all supplies are provided. \nTalk to your clinician or a member of your care team to learn more! \n  \nEvery Tuesday \nStarting October 28\, 2025 \n2:00 – 3:30 p.m. \nGarlington Health Center
URL:https://cascadiahealth.org/event/meaning-making-through-art-therapy-lgbtq-adults/
LOCATION:Cascadia Garlington Health Center\, 3036 NE Martin Luther King Jr.\, Blvd.\, Portland\, OR\, 97212\, United States
END:VEVENT
BEGIN:VEVENT
DTSTART;TZID=America/Los_Angeles:20251028T140000
DTEND;TZID=America/Los_Angeles:20251028T170000
DTSTAMP:20260423T174358
CREATED:20250603T172051Z
LAST-MODIFIED:20250603T172051Z
UID:10001228-1761660000-1761670800@cascadiahealth.org
SUMMARY:Community Wellness Social
DESCRIPTION:Join us on the last Tuesday of every month for a community event with food\, activities\, and music. This social is open to everyone in the greater Portland community\, so please stop by and spend some time with us! \nLast Tuesday of Each Month\n2:00 p.m.-5:00 p.m.\nGarlington Health Center\n3036 NE MLK Blvd.\nThe social is also a great opportunity to visit the Garlington Health Center Resource Room during its drop-in hours. Read more about the Resource Room here!
URL:https://cascadiahealth.org/event/community-wellness-social-oct-25/
LOCATION:Cascadia Garlington Health Center\, 3036 NE Martin Luther King Jr.\, Blvd.\, Portland\, OR\, 97212\, United States
END:VEVENT
BEGIN:VEVENT
DTSTART;TZID=America/Los_Angeles:20251029T120000
DTEND;TZID=America/Los_Angeles:20251029T130000
DTSTAMP:20260423T174358
CREATED:20250613T223106Z
LAST-MODIFIED:20250619T183654Z
UID:10001256-1761739200-1761742800@cascadiahealth.org
SUMMARY:Mindful Moments
DESCRIPTION:Join us every Wednesday from 12:00 – 1:00 p.m. to learn about mindfulness and practice as a group. \n\nWhile we practice\, we will learn how to ground ourselves\, to improve our attention\, to improve our immune system\, and improve our brain functioning. Remember we can make it happen\, ourselves\, right now. During this stressful time\, you may find yourself in an aroused state\, with an increased heartbeat\, anxiousness\, and adrenaline. Your body may be tense\, which can impact your blood flow and blood pressure. You may have a hard time focusing\, feel irritated\, restless\, and reactive.\n\nJoin Us Online\n\n\nMicrosoft Teams Need help? \n\n\nJoin the meeting now \n\n\nMeeting ID: 254 854 514 920 0 \n\n\nPasscode: 5Ue7fZ9c \n\n\n\n\n\n\n\n\nDial in by phone \n\n\n+1 971-394-0147\,\,885772241# United States\, Portland \n\n\nFind a local number \n\n\n\nPhone conference ID: 885 772 241# \n\n\n 
URL:https://cascadiahealth.org/event/mindful-moments-series/2025-10-29/
LOCATION:Online
END:VEVENT
END:VCALENDAR